BEGIN:VCALENDAR
VERSION:2.0
PRODID:icalendar-ruby
CALSCALE:GREGORIAN
METHOD:PUBLISH
BEGIN:VEVENT
DTSTAMP:20260421T092535Z
UID:187-405287@west5thavefwbc.org
DTSTART:20260417T230000Z
DTEND:20260418T010000Z
CLASS:PUBLIC
CREATED:20260413T084830
DESCRIPTION:Come on out and join us for the Foothills Youth Association Mee
 ting at Going Home FWBC at 7pm\, Friday the 17th. When you take the intent
 ional time to support our youth\, you're supporting and growing our future
 !
LAST-MODIFIED:20260413T084830
LOCATION:191 E Yancey St\, Marion\, NC 28752
SUMMARY:Youth Association Meeting
URL;VALUE=URI:https://www.west5thavefwbc.org/events/youth-association-meeti
 ng--187/2026-04-17
ATTACH;FILENAME=download.png;FMTTYPE=image/png:https://dq5pwpg1q8ru0.cloudf
 ront.net/2026/04/13/12/48/29/7a835d2e-8d50-4494-8a2b-d9a992fbc2d0/download
 .png
END:VEVENT
END:VCALENDAR
